25.00000000000000
0.00000000000000
0.00000000000000
-25.00000000000000
560687.50000000000000
4126616.00000000000000
