25.00000000000000
0.00000000000000
0.00000000000000
-25.00000000000000
621167.56250000000000
4094571.25000000000000
