99.96401843948685
-0.00000000000030
0.00000000000004
-99.97334236185026
476854.33830021007000
4279599.68032267130000
