1.00000000000440
0.00000000000561
-0.00000000000002
-0.99999999999123
550699.99999999162000
4123094.99999992550000
