1.00000000000065
-0.00000000000317
-0.00000000000014
-0.99999999998108
555058.99999999721000
4123175.99999988170000
