0.99999999999955
-0.00000000000530
-0.00000000000000
-0.99999999999944
577326.00000000256000
4109513.00000002750000
