1.00000000000116
0.00000000001247
-0.00000000000978
-0.99999999999187
566221.00000006426000
4109402.99999986590000
