0.99999999999964
0.00000000000006
0.00000000001005
-1.00000000001036
577197.99999992875000
4123381.00000007590000
