0.99999999999980
0.00000000000716
-0.00000000000494
-0.99999999998910
566129.00000003690000
4123270.99999987750000
