0.99999999999527
-0.00000000000697
0.00000000000958
-0.99999999997885
557510.99999994750000
4109307.99999987100000
