3.367745415307580
0.000000000000000
0.000000000000000
-3.367745415307580
6121696.550350207800000
1827200.032132409500000
