3.36808589566499
0.00000000000000
0.00000000000000
-3.36808589566499
6032198.80209072870000
1919784.01362280710000
