3.36809140164405
0.00000000000000
0.00000000000000
-3.36809140164405
6031316.06155772510000
1874276.75145589790000
