1.000000000000000
0.000000000000000
0.000000000000000
-1.000000000000000
658103.687500000000000
3964668.000000000000000
