1.52316296665556
-0.00000000000033
-0.00000000000003
-1.52354568163467
691162.15783243161000
3986229.45001522080000
