1.52311973148628
0.00000000000044
0.00000000000004
-1.52294142343126
605873.28582680610000
4085966.70603289460000
