1.52344491279648
-0.00000000000006
0.00000000000000
-1.52342877197477
611067.17951103905000
4087810.24499384730000
