1.52350093937570
0.00000000000004
-0.00000000000001
-1.52354256384751
656803.04370142112000
4013561.54642610110000
