1.52356075471469
-0.00000000000014
0.00000000000015
-1.52245908453177
634087.64428823104000
4027050.81503288490000
