1.52352429992231
0.00000000000026
0.00000000000000
-1.52333611412983
611265.33105199644000
4054462.75118188790000
