1.52354841647087
-0.00000000000031
0.00000000000002
-1.52356220993174
645086.40704831586000
4041098.71124297050000
