1.52337169693056
-0.00000000000010
-0.00000000000008
-1.52329448968575
602740.67743616994000
4054325.48165129400000
