1.52348047574571
-0.00000000000011
-0.00000000000002
-1.52352101948200
668053.74460211606000
4013771.19495457130000
