1.52346963138798
0.00000000000010
-0.00000000000002
-1.52353003063325
622105.60299369134000
4081251.26424157430000
