1.52351985524774
0.00000000000019
0.00000000000002
-1.52349066913904
679590.31005967304000
4000128.47394402700000
