1.52357102508235
-0.00000000000004
0.00000000000002
-1.52357711417643
611083.79334738175000
4068329.89937791600000
