1.52309139485169
0.00000000000033
-0.00000000000004
-1.52309595131552
631929.97056430066000
4040750.10747461720000
