1.52344211227394
-0.00000000000019
-0.00000000000003
-1.52353540363845
610904.10849720764000
4082194.75978604890000
