1.52333591124548
0.00000000000024
0.00000000000003
-1.52342531161093
668054.61652461987000
4020909.98893700910000
