1.52344534024726
-0.00000000000007
-0.00000000000002
-1.52356927475727
645319.98448068509000
4027232.10089874780000
