1.52150071397513
-0.00000000000243
-0.00000000000018
-1.52280658415785
691363.65062824171000
3987745.97672013890000
