1.52356609733000
-0.00000000000007
-0.00000000000001
-1.52357844527390
633872.15836177231000
4040917.12557135060000
