1.52200699424165
-0.00000000000196
0.00000000000002
-1.52320630436182
656654.29222428007000
4032393.33660515960000
