1.52286226074863
0.00000000000282
-0.00000000000011
-1.52311812908750
679684.41782322514000
4004428.41691460600000
