1.52355651753898
0.00000000000011
-0.00000000000002
-1.52355308482833
622261.23821033852000
4068482.97438987440000
