1.52279548527566
0.00000000000027
0.00000000000007
-1.52335157606740
645230.57993201842000
4045554.54509829360000
