1.52340202890268
0.00000000000004
-0.00000000000002
-1.52311326788109
633830.09226542444000
4058996.63371740330000
