1.52345517925826
0.00000000000008
-0.00000000000001
-1.52355998108344
599744.76863082196000
4082056.29063096920000
