1.52359825263768
-0.00000000000002
0.00000000000002
-1.52359904212426
599906.38793339254000
4068191.36602992520000
