1.52340489379507
0.00000000000022
0.00000000000004
-1.52347712676216
685174.25856863207000
3986261.58002218050000
