1.52342617311082
-0.00000000000017
-0.00000000000001
-1.52354707073281
656552.29575807916000
4027428.12327974200000
