1.52346432496026
0.00000000000008
0.00000000000001
-1.52355981575657
633656.62748718285000
4054783.55771473930000
