1.52348395390034
-0.00000000000003
0.00000000000005
-1.52343700606428
668321.54728994321000
3999904.57055079240000
