1.52348064430171
-0.00000000000007
-0.00000000000001
-1.52357666176002
622460.93801539647000
4054615.89251030280000
