30.00000000000000
0.00000000000000
0.00000000000000
-30.00000000000000
534849.00000000000000
4152356.00000000000000
