30.00000000000000
-0.00000000000006
0.00000000000000
-30.00000000000000
541809.00000000000000
4149866.00000000050000
