30.00000000000000
-0.00000000000000
0.00000000000000
-30.00000000000000
531489.00000000000000
4153376.00000000000000
